BEGIN:VCALENDAR
VERSION:2.0
PRODID:-//Friends of the Waterfront - ECPv6.15.18//NONSGML v1.0//EN
CALSCALE:GREGORIAN
METHOD:PUBLISH
X-WR-CALNAME:Friends of the Waterfront
X-ORIGINAL-URL:https://newportwaterfront.org
X-WR-CALDESC:Events for Friends of the Waterfront
REFRESH-INTERVAL;VALUE=DURATION:PT1H
X-Robots-Tag:noindex
X-PUBLISHED-TTL:PT1H
BEGIN:VTIMEZONE
TZID:America/New_York
BEGIN:DAYLIGHT
TZOFFSETFROM:-0500
TZOFFSETTO:-0400
TZNAME:EDT
DTSTART:20250309T070000
END:DAYLIGHT
BEGIN:STANDARD
TZOFFSETFROM:-0400
TZOFFSETTO:-0500
TZNAME:EST
DTSTART:20251102T060000
END:STANDARD
BEGIN:DAYLIGHT
TZOFFSETFROM:-0500
TZOFFSETTO:-0400
TZNAME:EDT
DTSTART:20260308T070000
END:DAYLIGHT
BEGIN:STANDARD
TZOFFSETFROM:-0400
TZOFFSETTO:-0500
TZNAME:EST
DTSTART:20261101T060000
END:STANDARD
BEGIN:DAYLIGHT
TZOFFSETFROM:-0500
TZOFFSETTO:-0400
TZNAME:EDT
DTSTART:20270314T070000
END:DAYLIGHT
BEGIN:STANDARD
TZOFFSETFROM:-0400
TZOFFSETTO:-0500
TZNAME:EST
DTSTART:20271107T060000
END:STANDARD
END:VTIMEZONE
BEGIN:VEVENT
DTSTART;TZID=America/New_York:20260418T093000
DTEND;TZID=America/New_York:20260418T120000
DTSTAMP:20260424T040123
CREATED:20260325T151644Z
LAST-MODIFIED:20260325T152405Z
UID:17256-1776504600-1776513600@newportwaterfront.org
SUMMARY:King Park Earth Day Clean Up
DESCRIPTION:King Park Earth Day Clean Up\n\nJoin Us for the Friends of the Waterfront 27th Annual King Park Earth Day Cleanup!\nFriends of the Waterfront (FOW)\, a 501(c)(3) non-profit organization\, has been dedicated to preserving public access to Newport’s waterfront since 1982. As part of our commitment to the community and environment\, we invite you to participate in our annual Earth Day cleanup at King Park. \n📅 Date: Saturday\, April 18th\, 2026 \n📍 Location: King Park\, Newport\, RI (Beach Pavilion) \n🕘 Time: 9:30 AM–12:00 PM \n☕ Coffee\, donuts\, and refreshments will be provided. \nWe’ll spend about two hours cleaning up litter along the shoreline and park areas using provided gloves\, trash grabbers\, and bags. Volunteers of all ages are welcome—stay as long as you like! Your efforts will help beautify the park and protect the harbor’s natural habitat. Every helping hand makes a difference! \nDress appropriately for the weather and bring a reusable water bottle. \nWe hope to see you there!
URL:https://newportwaterfront.org/event/king-park-earth-day-clean-up-2026/
LOCATION:King Park\, 125 Wellington Avenue\, Newport\, RI\, 02840\, United States
CATEGORIES:King Park Earth Day Cleanup
ATTACH;FMTTYPE=image/jpeg:https://newportwaterfront.org/wp-content/uploads/2026/03/king-park-clean-up.jpg
END:VEVENT
BEGIN:VEVENT
DTSTART;TZID=America/New_York:20260530T100000
DTEND;TZID=America/New_York:20260530T140000
DTSTAMP:20260424T040123
CREATED:20260402T152146Z
LAST-MODIFIED:20260402T152146Z
UID:17592-1780135200-1780149600@newportwaterfront.org
SUMMARY:Sail Newport Community Waterfront Day
DESCRIPTION:Saturday 5/30 10:00 am to 2:00 pm at Sail Newport adjacent to Ft. Adams
URL:https://newportwaterfront.org/event/sail-newport-community-waterfront-day-2026/
LOCATION:Sail Newport\, 72 Fort Adams Drive\, Newport\, RI\, 02840\, United States
CATEGORIES:Category Event
END:VEVENT
BEGIN:VEVENT
DTSTART;TZID=America/New_York:20260626T170000
DTEND;TZID=America/New_York:20260626T190000
DTSTAMP:20260424T040123
CREATED:20260402T152415Z
LAST-MODIFIED:20260402T153222Z
UID:17604-1782493200-1782500400@newportwaterfront.org
SUMMARY:King Park Summer Concert Series 2026 #1 - James Montgomery
DESCRIPTION:
URL:https://newportwaterfront.org/event/king-park-summer-concert-series-2026-1/
LOCATION:King Park\, 125 Wellington Avenue\, Newport\, RI\, 02840\, United States
CATEGORIES:Waterfront Concert Series
END:VEVENT
BEGIN:VEVENT
DTSTART;TZID=America/New_York:20260711T170000
DTEND;TZID=America/New_York:20260711T190000
DTSTAMP:20260424T040123
CREATED:20260402T153150Z
LAST-MODIFIED:20260402T153213Z
UID:17608-1783789200-1783796400@newportwaterfront.org
SUMMARY:King Park Summer Concert Series 2026 # 2 - Musician TBD
DESCRIPTION:
URL:https://newportwaterfront.org/event/king-park-summer-concert-series-2026-2/
LOCATION:King Park\, 125 Wellington Avenue\, Newport\, RI\, 02840\, United States
CATEGORIES:Waterfront Concert Series
END:VEVENT
BEGIN:VEVENT
DTSTART;TZID=America/New_York:20260807T170000
DTEND;TZID=America/New_York:20260807T190000
DTSTAMP:20260424T040123
CREATED:20260402T153248Z
LAST-MODIFIED:20260402T153248Z
UID:17609-1786122000-1786129200@newportwaterfront.org
SUMMARY:King Park Summer Concert Series 2026 #3 - Elizabeth Beisel & Jazz Trio
DESCRIPTION:
URL:https://newportwaterfront.org/event/king-park-summer-concert-series-2026-3/
LOCATION:King Park\, 125 Wellington Avenue\, Newport\, RI\, 02840\, United States
CATEGORIES:Waterfront Concert Series
END:VEVENT
BEGIN:VEVENT
DTSTART;TZID=America/New_York:20260821T170000
DTEND;TZID=America/New_York:20260821T190000
DTSTAMP:20260424T040123
CREATED:20260402T153302Z
LAST-MODIFIED:20260402T153302Z
UID:17610-1787331600-1787338800@newportwaterfront.org
SUMMARY:King Park Summer Concert Series 2026 #4 - Musician TBD
DESCRIPTION:
URL:https://newportwaterfront.org/event/king-park-summer-concert-series-2026-4/
LOCATION:King Park\, 125 Wellington Avenue\, Newport\, RI\, 02840\, United States
CATEGORIES:Waterfront Concert Series
END:VEVENT
BEGIN:VEVENT
DTSTART;TZID=America/New_York:20260905T160000
DTEND;TZID=America/New_York:20260905T180000
DTSTAMP:20260424T040123
CREATED:20260402T153312Z
LAST-MODIFIED:20260402T153312Z
UID:17611-1788624000-1788631200@newportwaterfront.org
SUMMARY:King Park Summer Concert Series 2026 #5 - Kevin Doyle
DESCRIPTION:
URL:https://newportwaterfront.org/event/king-park-summer-concert-series-2026-5/
LOCATION:King Park\, 125 Wellington Avenue\, Newport\, RI\, 02840\, United States
CATEGORIES:Waterfront Concert Series
END:VEVENT
END:VCALENDAR