BEGIN:VCALENDAR
VERSION:2.0
PRODID:-//Friends of the Waterfront - ECPv6.15.18//NONSGML v1.0//EN
CALSCALE:GREGORIAN
METHOD:PUBLISH
X-WR-CALNAME:Friends of the Waterfront
X-ORIGINAL-URL:https://newportwaterfront.org
X-WR-CALDESC:Events for Friends of the Waterfront
REFRESH-INTERVAL;VALUE=DURATION:PT1H
X-Robots-Tag:noindex
X-PUBLISHED-TTL:PT1H
BEGIN:VTIMEZONE
TZID:America/New_York
BEGIN:DAYLIGHT
TZOFFSETFROM:-0500
TZOFFSETTO:-0400
TZNAME:EDT
DTSTART:20230312T070000
END:DAYLIGHT
BEGIN:STANDARD
TZOFFSETFROM:-0400
TZOFFSETTO:-0500
TZNAME:EST
DTSTART:20231105T060000
END:STANDARD
BEGIN:DAYLIGHT
TZOFFSETFROM:-0500
TZOFFSETTO:-0400
TZNAME:EDT
DTSTART:20240310T070000
END:DAYLIGHT
BEGIN:STANDARD
TZOFFSETFROM:-0400
TZOFFSETTO:-0500
TZNAME:EST
DTSTART:20241103T060000
END:STANDARD
BEGIN:DAYLIGHT
TZOFFSETFROM:-0500
TZOFFSETTO:-0400
TZNAME:EDT
DTSTART:20250309T070000
END:DAYLIGHT
BEGIN:STANDARD
TZOFFSETFROM:-0400
TZOFFSETTO:-0500
TZNAME:EST
DTSTART:20251102T060000
END:STANDARD
BEGIN:DAYLIGHT
TZOFFSETFROM:-0500
TZOFFSETTO:-0400
TZNAME:EDT
DTSTART:20260308T070000
END:DAYLIGHT
BEGIN:STANDARD
TZOFFSETFROM:-0400
TZOFFSETTO:-0500
TZNAME:EST
DTSTART:20261101T060000
END:STANDARD
BEGIN:DAYLIGHT
TZOFFSETFROM:-0500
TZOFFSETTO:-0400
TZNAME:EDT
DTSTART:20270314T070000
END:DAYLIGHT
BEGIN:STANDARD
TZOFFSETFROM:-0400
TZOFFSETTO:-0500
TZNAME:EST
DTSTART:20271107T060000
END:STANDARD
END:VTIMEZONE
BEGIN:VTIMEZONE
TZID:UTC
BEGIN:STANDARD
TZOFFSETFROM:+0000
TZOFFSETTO:+0000
TZNAME:UTC
DTSTART:20220101T000000
END:STANDARD
END:VTIMEZONE
BEGIN:VEVENT
DTSTART;TZID=America/New_York:20260530T100000
DTEND;TZID=America/New_York:20260530T140000
DTSTAMP:20260424T054159
CREATED:20260402T152146Z
LAST-MODIFIED:20260402T152146Z
UID:17592-1780135200-1780149600@newportwaterfront.org
SUMMARY:Sail Newport Community Waterfront Day
DESCRIPTION:Saturday 5/30 10:00 am to 2:00 pm at Sail Newport adjacent to Ft. Adams
URL:https://newportwaterfront.org/event/sail-newport-community-waterfront-day-2026/
LOCATION:Sail Newport\, 72 Fort Adams Drive\, Newport\, RI\, 02840\, United States
CATEGORIES:Category Event
END:VEVENT
BEGIN:VEVENT
DTSTART;TZID=America/New_York:20260418T093000
DTEND;TZID=America/New_York:20260418T120000
DTSTAMP:20260424T054159
CREATED:20260325T151644Z
LAST-MODIFIED:20260325T152405Z
UID:17256-1776504600-1776513600@newportwaterfront.org
SUMMARY:King Park Earth Day Clean Up
DESCRIPTION:King Park Earth Day Clean Up\n\nJoin Us for the Friends of the Waterfront 27th Annual King Park Earth Day Cleanup!\nFriends of the Waterfront (FOW)\, a 501(c)(3) non-profit organization\, has been dedicated to preserving public access to Newport’s waterfront since 1982. As part of our commitment to the community and environment\, we invite you to participate in our annual Earth Day cleanup at King Park. \n📅 Date: Saturday\, April 18th\, 2026 \n📍 Location: King Park\, Newport\, RI (Beach Pavilion) \n🕘 Time: 9:30 AM–12:00 PM \n☕ Coffee\, donuts\, and refreshments will be provided. \nWe’ll spend about two hours cleaning up litter along the shoreline and park areas using provided gloves\, trash grabbers\, and bags. Volunteers of all ages are welcome—stay as long as you like! Your efforts will help beautify the park and protect the harbor’s natural habitat. Every helping hand makes a difference! \nDress appropriately for the weather and bring a reusable water bottle. \nWe hope to see you there!
URL:https://newportwaterfront.org/event/king-park-earth-day-clean-up-2026/
LOCATION:King Park\, 125 Wellington Avenue\, Newport\, RI\, 02840\, United States
CATEGORIES:King Park Earth Day Cleanup
ATTACH;FMTTYPE=image/jpeg:https://newportwaterfront.org/wp-content/uploads/2026/03/king-park-clean-up.jpg
END:VEVENT
BEGIN:VEVENT
DTSTART;TZID=America/New_York:20251204T173000
DTEND;TZID=America/New_York:20251204T190000
DTSTAMP:20260424T054159
CREATED:20251024T113903Z
LAST-MODIFIED:20251024T113915Z
UID:16591-1764869400-1764874800@newportwaterfront.org
SUMMARY:Friends of the Waterfront Annual Meeting
DESCRIPTION:
URL:https://newportwaterfront.org/event/friends-of-the-waterfront-annual-meeting-2025/
LOCATION:Newport Marriot – Freedom Room\, 2nd Floor\, 25 America's Cup Avenue\, Newport\, RI\, 02840\, United States
END:VEVENT
BEGIN:VEVENT
DTSTART;TZID=America/New_York:20250830T160000
DTEND;TZID=America/New_York:20250830T180000
DTSTAMP:20260424T054159
CREATED:20250425T002638Z
LAST-MODIFIED:20250716T203847Z
UID:15695-1756569600-1756576800@newportwaterfront.org
SUMMARY:King Park Summer Concert Series 2025 #5 -  TURAS W/ RHODE TO DUBLIN (Irish Festival on Labor Day Weekend)
DESCRIPTION:
URL:https://newportwaterfront.org/event/king-park-summer-concert-series-2025-turas-w-rhode-to-dublin-irish-festival-on-labor-day-weekend/
LOCATION:King Park\, 125 Wellington Avenue\, Newport\, RI\, 02840\, United States
CATEGORIES:Waterfront Concert Series
END:VEVENT
BEGIN:VEVENT
DTSTART;TZID=America/New_York:20250815T170000
DTEND;TZID=America/New_York:20250815T190000
DTSTAMP:20260424T054159
CREATED:20250425T002618Z
LAST-MODIFIED:20250716T203806Z
UID:15694-1755277200-1755284400@newportwaterfront.org
SUMMARY:King Park Summer Concert Series 2025 #4 - PETS
DESCRIPTION:
URL:https://newportwaterfront.org/event/king-park-summer-concert-series-2025-pets/
LOCATION:King Park\, 125 Wellington Avenue\, Newport\, RI\, 02840\, United States
CATEGORIES:Waterfront Concert Series
END:VEVENT
BEGIN:VEVENT
DTSTART;TZID=America/New_York:20250808T170000
DTEND;TZID=America/New_York:20250808T190000
DTSTAMP:20260424T054159
CREATED:20250425T002602Z
LAST-MODIFIED:20250716T203753Z
UID:15693-1754672400-1754679600@newportwaterfront.org
SUMMARY:King Park Summer Concert Series 2025 #3 - MELO GREEN
DESCRIPTION:
URL:https://newportwaterfront.org/event/king-park-summer-concert-series-2025-melo-green-2/
LOCATION:King Park\, 125 Wellington Avenue\, Newport\, RI\, 02840\, United States
CATEGORIES:Waterfront Concert Series
END:VEVENT
BEGIN:VEVENT
DTSTART;TZID=America/New_York:20250718T170000
DTEND;TZID=America/New_York:20250718T190000
DTSTAMP:20260424T054159
CREATED:20250425T002548Z
LAST-MODIFIED:20250716T203737Z
UID:15692-1752858000-1752865200@newportwaterfront.org
SUMMARY:King Park Summer Concert Series 2025 #2 -   LA MÉCHANTE ET LE CONNARD
DESCRIPTION:
URL:https://newportwaterfront.org/event/king-park-summer-concert-series-2025-la-mechante-et-le-connard-2/
LOCATION:King Park\, 125 Wellington Avenue\, Newport\, RI\, 02840\, United States
CATEGORIES:Waterfront Concert Series
END:VEVENT
BEGIN:VEVENT
DTSTART;TZID=America/New_York:20250711T170000
DTEND;TZID=America/New_York:20250711T190000
DTSTAMP:20260424T054159
CREATED:20250425T002524Z
LAST-MODIFIED:20250606T170700Z
UID:15689-1752253200-1752260400@newportwaterfront.org
SUMMARY:King Park Summer Concert Series 2025 #1 -James Montgomery
DESCRIPTION:
URL:https://newportwaterfront.org/event/king-park-summer-concert-series-2025-james-montgomery/
LOCATION:King Park\, 125 Wellington Avenue\, Newport\, RI\, 02840\, United States
CATEGORIES:Waterfront Concert Series
END:VEVENT
BEGIN:VEVENT
DTSTART;TZID=America/New_York:20250531T100000
DTEND;TZID=America/New_York:20250531T140000
DTSTAMP:20260424T054159
CREATED:20250425T001515Z
LAST-MODIFIED:20250425T001515Z
UID:15687-1748685600-1748700000@newportwaterfront.org
SUMMARY:Sail Newport Community Waterfront Day
DESCRIPTION:
URL:https://newportwaterfront.org/event/sail-newport-community-waterfront-day/
LOCATION:RI
END:VEVENT
BEGIN:VEVENT
DTSTART;TZID=America/New_York:20250427T143000
DTEND;TZID=America/New_York:20250427T170000
DTSTAMP:20260424T054159
CREATED:20250402T152558Z
LAST-MODIFIED:20250425T003239Z
UID:15668-1745764200-1745773200@newportwaterfront.org
SUMMARY:King Park Earth Day Cleanup
DESCRIPTION:King Park Earth Day Clean Up\n\n⚠️King Park Earth Day Cleanup has been changed to Sunday from 2:30 PM–5:00 PM. \n\nJoin Us for the Friends of the Waterfront 26th Annual King Park Earth Day Cleanup!\nFriends of the Waterfront (FOW)\, a 501(c)(3) non-profit organization\, has been dedicated to preserving public access to Newport’s waterfront since 1982. As part of our commitment to the community and environment\, we invite you to participate in our annual Earth Day cleanup at King Park. \n📅 Date: Saturday\, April 26\, 2025 → Sunday\, April 27\, 2025 \n📍 Location: King Park\, Newport\, RI (Beach Pavilion) \n🕘 Time: 9:30 AM–12:00 PM → 2:30 PM–5:00 PM \n☕ Coffee\, donuts\, and refreshments will be provided. \nWe’ll spend about two hours cleaning up litter along the shoreline and park areas using provided gloves\, trash grabbers\, and bags. Volunteers of all ages are welcome—stay as long as you like! Your efforts will help beautify the park and protect the harbor’s natural habitat. Every helping hand makes a difference! \nDress appropriately for the weather and bring a reusable water bottle. \nWe hope to see you there! \n\nRSVP in advance on Eventbrite: https://www.eventbrite.com/e/friends-of-the-waterfront-king-park-cleanup-tickets-1297999303859?utm_experiment=test_share_listing&aff=ebdsshios
URL:https://newportwaterfront.org/event/king-park-earth-day-cleanup-2025/
LOCATION:King Park\, 125 Wellington Avenue\, Newport\, RI\, 02840\, United States
CATEGORIES:King Park Earth Day Cleanup
ATTACH;FMTTYPE=image/avif:https://newportwaterfront.org/wp-content/uploads/2025/04/king-park-cleanup-2025-1.avif
END:VEVENT
BEGIN:VEVENT
DTSTART;TZID=America/New_York:20241203T180000
DTEND;TZID=America/New_York:20241203T190000
DTSTAMP:20260424T054159
CREATED:20241113T173459Z
LAST-MODIFIED:20241113T173610Z
UID:15578-1733248800-1733252400@newportwaterfront.org
SUMMARY:Friends of the Waterfront Annual Meeting
DESCRIPTION:
URL:https://newportwaterfront.org/event/friends-of-the-waterfront-annual-meeting/
LOCATION:Newport Mariott – Newport Room\, 25 America's Cup Ave\, Newport\, RI\, 02840\, United States
ATTACH;FMTTYPE=image/png:https://newportwaterfront.org/wp-content/uploads/2024/11/FOW-ANNUAL-MEET-INVITE-copy.png
END:VEVENT
BEGIN:VEVENT
DTSTART;TZID=UTC:20240831T160000
DTEND;TZID=UTC:20240831T180000
DTSTAMP:20260424T054159
CREATED:20240520T211218Z
LAST-MODIFIED:20240520T212015Z
UID:15336-1725120000-1725127200@newportwaterfront.org
SUMMARY:Waterfront Concert Series ​2024: Irish Celebration with Kevin Doyle
DESCRIPTION:FOW Summer Concert Series at King Park 4:00 pm to 6:00 pm featuring Irish Celebration with Kevin Doyle
URL:https://newportwaterfront.org/event/waterfront-concert-series-2024-irish-celebration-with-kevin-doyle/
LOCATION:RI
CATEGORIES:FOW Summer Concert Series 2024,Waterfront Concert Series 2024
END:VEVENT
BEGIN:VEVENT
DTSTART;TZID=UTC:20240809T170000
DTEND;TZID=UTC:20240809T190000
DTSTAMP:20260424T054159
CREATED:20240520T211313Z
LAST-MODIFIED:20240520T212005Z
UID:15335-1723222800-1723230000@newportwaterfront.org
SUMMARY:Waterfront Concert Series ​2024: Chase Ceglie (Indie Jazz-Pop band)
DESCRIPTION:FOW Summer Concert Series at King Park 5:00 pm to 7:00 pm featuring Chase Ceglie (Indie Jazz-Pop band)
URL:https://newportwaterfront.org/event/waterfront-concert-series-2024-chase-ceglie-indie-jazz-pop-band/
LOCATION:RI
CATEGORIES:FOW Summer Concert Series 2024,Waterfront Concert Series 2024
END:VEVENT
BEGIN:VEVENT
DTSTART;TZID=UTC:20240719T170000
DTEND;TZID=UTC:20240719T190000
DTSTAMP:20260424T054159
CREATED:20240521T195436Z
LAST-MODIFIED:20240521T195519Z
UID:15448-1721408400-1721415600@newportwaterfront.org
SUMMARY:Waterfront Concert Series 2024: La Mechante et Le Connand (French Lounge & Swing band)
DESCRIPTION:FOW Summer Concert Series at King Park 5:00 pm to 7:00 pm featuring La Mechante et Le Connand (French Lounge & Swing band)
URL:https://newportwaterfront.org/event/waterfront-concert-series-2024-la-mechante-et-le-connand-french-lounge-swing-band/
LOCATION:RI
CATEGORIES:FOW Summer Concert Series 2024,Waterfront Concert Series 2024
END:VEVENT
BEGIN:VEVENT
DTSTART;TZID=UTC:20240712T170000
DTEND;TZID=UTC:20240712T190000
DTSTAMP:20260424T054159
CREATED:20240520T211504Z
LAST-MODIFIED:20240520T211955Z
UID:15333-1720803600-1720810800@newportwaterfront.org
SUMMARY:Waterfront Concert Series ​2024: Alan Bernstein Jazz Quartet
DESCRIPTION:FOW Summer Concert Series at King Park 5:00 pm to 7:00 pm featuring Alan Bernstein Jazz Quartet
URL:https://newportwaterfront.org/event/waterfront-concert-series-2024-alan-bernstein-jazz-quartet/
LOCATION:RI
CATEGORIES:FOW Summer Concert Series 2024,Waterfront Concert Series 2024
END:VEVENT
BEGIN:VEVENT
DTSTART;VALUE=DATE:20240701
DTEND;VALUE=DATE:20240702
DTSTAMP:20260424T054159
CREATED:20240520T200053Z
LAST-MODIFIED:20240624T185201Z
UID:15295-1719792000-1719878399@newportwaterfront.org
SUMMARY:Harbor Walk Scavenger Hunt Begins
DESCRIPTION:July 1st: Harbor Walk scavenger hunt begins. \nBetween King Park on Wellington Avenue and Mary Ferrazzoli Park on Long Wharf there are painted rocks waiting for you to discover. There are more rocks than listed below\, so be on the look out and enjoy the adventure! We hope you take this opportunity to appreciate the importance of public access to our shoreline. Our main mission is to protect and promote public waterfront access. We invite you to consider becoming a member or donating to FOW. \n\n\n\n\n\njellyfish\nlighthouse\nturtle\nbunny\nladybug\ndaisy\nseahorse\nbutterfly\nfish\nseal\nwhale\nsand dollar\ncompass\n\n\n\n\nbeach ball\ncrab\npower boat\nsea gull\nNewport bridge\nstarfish\nanchor\nsmiling sun\npineapple\nscallop shell\nsailboat\nlobster\n\n\n\n\n\n        \n                                    \n                        \n                    Powered By EmbedPress
URL:https://newportwaterfront.org/event/harbor-walk-scavenger-hunt-begins/
LOCATION:RI
CATEGORIES:Waterfront Concert Series 2024
END:VEVENT
BEGIN:VEVENT
DTSTART;TZID=UTC:20240628T170000
DTEND;TZID=UTC:20240628T190000
DTSTAMP:20260424T054159
CREATED:20240520T195936Z
LAST-MODIFIED:20240520T211949Z
UID:15294-1719594000-1719601200@newportwaterfront.org
SUMMARY:Waterfront Concert Series ​2024: James Montgomery Band
DESCRIPTION:FOW Summer Concert Series begins at King Park 5:00 pm to 7:00 pm featuring James Montgomery Band.
URL:https://newportwaterfront.org/event/waterfront-concert-series-2024-fow-summer-concert-series-james-montgomery-band/
LOCATION:RI
CATEGORIES:FOW Summer Concert Series 2024,Waterfront Concert Series 2024
END:VEVENT
BEGIN:VEVENT
DTSTART;TZID=UTC:20240601T100000
DTEND;TZID=UTC:20240601T140000
DTSTAMP:20260424T054159
CREATED:20240520T195809Z
LAST-MODIFIED:20240520T212130Z
UID:15293-1717236000-1717250400@newportwaterfront.org
SUMMARY:Sail Newport Community Day
DESCRIPTION:Try sailing\, enjoy Newport Harbor\, learn more about FOW and other great organizations and paint some rocks for our upcoming scavenger hunt.
URL:https://newportwaterfront.org/event/sail-newport-community-day-2024/
LOCATION:RI
CATEGORIES:Waterfront Concert Series 2024
END:VEVENT
BEGIN:VEVENT
DTSTART;TZID=UTC:20240420T093000
DTEND;TZID=UTC:20240420T120000
DTSTAMP:20260424T054159
CREATED:20240520T195454Z
LAST-MODIFIED:20240520T195454Z
UID:15285-1713605400-1713614400@newportwaterfront.org
SUMMARY:2024 King Park Earth Day Cleanup
DESCRIPTION:9:30 am 12 pm weather permitting … gloves\, bags\, coffee provided.​
URL:https://newportwaterfront.org/event/2024-king-park-earth-day-cleanup/
LOCATION:RI
CATEGORIES:King Park Earth Day Cleanup
END:VEVENT
BEGIN:VEVENT
DTSTART;TZID=UTC:20231204T170000
DTEND;TZID=UTC:20231204T190000
DTSTAMP:20260424T054159
CREATED:20231024T204651Z
LAST-MODIFIED:20231024T205219Z
UID:14102-1701709200-1701716400@newportwaterfront.org
SUMMARY:Annual Meeting
DESCRIPTION:
URL:https://newportwaterfront.org/event/annual-meeting-2023/
LOCATION:Newport Mariott – Newport Room\, 25 America's Cup Ave\, Newport\, RI\, 02840\, United States
END:VEVENT
BEGIN:VEVENT
DTSTART;TZID=UTC:20230422T093000
DTEND;TZID=UTC:20230422T120000
DTSTAMP:20260424T054159
CREATED:20230805T003816Z
LAST-MODIFIED:20240520T195509Z
UID:13686-1682155800-1682164800@newportwaterfront.org
SUMMARY:2023 King Park Earth Day Cleanup
DESCRIPTION:April 22 @ 9:30 am – 12:00 pm \nPLEASE JOIN the Friends of the Waterfront and the Friends of King Park \nSaturday April 22\, 2023 9:30 – 12 \nCome and clean your neighborhood waterfront park! \nFree coffee thanks to the support of Ash Mart Gloves\, trash bags\, and tally sheets provided by Clean Ocean Access \nFREE SEEDS FROM URI MASTER GARDENERS!!
URL:https://newportwaterfront.org/event/2023-king-park-earth-day-cleanup/
LOCATION:RI
CATEGORIES:King Park Earth Day Cleanup
END:VEVENT
END:VCALENDAR